BEGIN:VCALENDAR
VERSION:2.0
PRODID:-//Benawell - ECPv6.15.20//NONSGML v1.0//EN
CALSCALE:GREGORIAN
METHOD:PUBLISH
X-WR-CALNAME:Benawell
X-ORIGINAL-URL:https://www.benawell.com
X-WR-CALDESC:Events for Benawell
REFRESH-INTERVAL;VALUE=DURATION:PT1H
X-Robots-Tag:noindex
X-PUBLISHED-TTL:PT1H
BEGIN:VTIMEZONE
TZID:Europe/London
BEGIN:DAYLIGHT
TZOFFSETFROM:+0000
TZOFFSETTO:+0100
TZNAME:BST
DTSTART:20230326T010000
END:DAYLIGHT
BEGIN:STANDARD
TZOFFSETFROM:+0100
TZOFFSETTO:+0000
TZNAME:GMT
DTSTART:20231029T010000
END:STANDARD
BEGIN:DAYLIGHT
TZOFFSETFROM:+0000
TZOFFSETTO:+0100
TZNAME:BST
DTSTART:20240331T010000
END:DAYLIGHT
BEGIN:STANDARD
TZOFFSETFROM:+0100
TZOFFSETTO:+0000
TZNAME:GMT
DTSTART:20241027T010000
END:STANDARD
BEGIN:DAYLIGHT
TZOFFSETFROM:+0000
TZOFFSETTO:+0100
TZNAME:BST
DTSTART:20250330T010000
END:DAYLIGHT
BEGIN:STANDARD
TZOFFSETFROM:+0100
TZOFFSETTO:+0000
TZNAME:GMT
DTSTART:20251026T010000
END:STANDARD
END:VTIMEZONE
BEGIN:VEVENT
DTSTART;TZID=Europe/London:20240909T090000
DTEND;TZID=Europe/London:20240909T153000
DTSTAMP:20260423T134807
CREATED:20240228T191339Z
LAST-MODIFIED:20240228T191854Z
UID:16055-1725872400-1725895800@www.benawell.com
SUMMARY:Understanding Young Peoples' Mental Health:  Staffordshire 2024
DESCRIPTION:Training in young people’s  mental health: Learn how to spot signs of poor wellbeing & get strategies & tools to make a difference
URL:https://www.benawell.com/event/understanding-young-peoples-mental-health-staffordshire-2024/
LOCATION:Rugeley Community Ctr\, Burnthill Lane\, Rugeley\, England\, WS15 2HX\, United Kingdom
CATEGORIES:Mental Health
ATTACH;FMTTYPE=image/jpeg:https://www.benawell.com/wp-content/uploads/2024/02/0d348d7b28e2c9e96627b94ec929cdbb.jpg
END:VEVENT
END:VCALENDAR