BEGIN:VCALENDAR
VERSION:2.0
PRODID:-//Benawell - ECPv6.15.20//NONSGML v1.0//EN
CALSCALE:GREGORIAN
METHOD:PUBLISH
X-WR-CALNAME:Benawell
X-ORIGINAL-URL:https://www.benawell.com
X-WR-CALDESC:Events for Benawell
REFRESH-INTERVAL;VALUE=DURATION:PT1H
X-Robots-Tag:noindex
X-PUBLISHED-TTL:PT1H
BEGIN:VTIMEZONE
TZID:Europe/London
BEGIN:DAYLIGHT
TZOFFSETFROM:+0000
TZOFFSETTO:+0100
TZNAME:BST
DTSTART:20230326T010000
END:DAYLIGHT
BEGIN:STANDARD
TZOFFSETFROM:+0100
TZOFFSETTO:+0000
TZNAME:GMT
DTSTART:20231029T010000
END:STANDARD
BEGIN:DAYLIGHT
TZOFFSETFROM:+0000
TZOFFSETTO:+0100
TZNAME:BST
DTSTART:20240331T010000
END:DAYLIGHT
BEGIN:STANDARD
TZOFFSETFROM:+0100
TZOFFSETTO:+0000
TZNAME:GMT
DTSTART:20241027T010000
END:STANDARD
BEGIN:DAYLIGHT
TZOFFSETFROM:+0000
TZOFFSETTO:+0100
TZNAME:BST
DTSTART:20250330T010000
END:DAYLIGHT
BEGIN:STANDARD
TZOFFSETFROM:+0100
TZOFFSETTO:+0000
TZNAME:GMT
DTSTART:20251026T010000
END:STANDARD
END:VTIMEZONE
BEGIN:VEVENT
DTSTART;TZID=Europe/London:20240323T094500
DTEND;TZID=Europe/London:20240323T103000
DTSTAMP:20260419T175344
CREATED:20240213T151217Z
LAST-MODIFIED:20240213T151239Z
UID:14404-1711187100-1711189800@www.benawell.com
SUMMARY:Park Active - Stevens Park\, Wollescote
DESCRIPTION:Park Active sessions are free\, weekly fitness sessions led by trained volunteers in your local park.  Please read the PAR-Q document below
URL:https://www.benawell.com/event/park-active-stevens-park-wollescote-21/
LOCATION:Car Park\, Wollescote Road\, Wollescote\, England\, DY9 7JG\, United Kingdom
CATEGORIES:Exercise/Sport
ATTACH;FMTTYPE=image/jpeg:https://www.benawell.com/wp-content/uploads/2023/08/21d1457a2716509307d059d829f0ec66.jpg
END:VEVENT
BEGIN:VEVENT
DTSTART;TZID=Europe/London:20240323T160000
DTEND;TZID=Europe/London:20240323T173000
DTSTAMP:20260419T175344
CREATED:20240104T140808Z
LAST-MODIFIED:20240104T140808Z
UID:12766-1711209600-1711215000@www.benawell.com
SUMMARY:Sound Bath In The Forest
DESCRIPTION:A nourishing sound bath set within the forest space.
URL:https://www.benawell.com/event/sound-bath-in-the-forest-3/
LOCATION:Wyre Forest – Forestry England\, Wyre Forest Discovery Centre\, Callow Hill\, England\, DY14 9XQ\, United Kingdom
CATEGORIES:Wellbeing
ATTACH;FMTTYPE=image/jpeg:https://www.benawell.com/wp-content/uploads/2024/01/15cc9abfdc4c86bbaad08b29b3c6bd33.jpg
END:VEVENT
END:VCALENDAR