BEGIN:VCALENDAR
VERSION:2.0
PRODID:-//Benawell - ECPv6.15.20//NONSGML v1.0//EN
CALSCALE:GREGORIAN
METHOD:PUBLISH
X-WR-CALNAME:Benawell
X-ORIGINAL-URL:https://www.benawell.com
X-WR-CALDESC:Events for Benawell
REFRESH-INTERVAL;VALUE=DURATION:PT1H
X-Robots-Tag:noindex
X-PUBLISHED-TTL:PT1H
BEGIN:VTIMEZONE
TZID:Europe/London
BEGIN:DAYLIGHT
TZOFFSETFROM:+0000
TZOFFSETTO:+0100
TZNAME:BST
DTSTART:20230326T010000
END:DAYLIGHT
BEGIN:STANDARD
TZOFFSETFROM:+0100
TZOFFSETTO:+0000
TZNAME:GMT
DTSTART:20231029T010000
END:STANDARD
BEGIN:DAYLIGHT
TZOFFSETFROM:+0000
TZOFFSETTO:+0100
TZNAME:BST
DTSTART:20240331T010000
END:DAYLIGHT
BEGIN:STANDARD
TZOFFSETFROM:+0100
TZOFFSETTO:+0000
TZNAME:GMT
DTSTART:20241027T010000
END:STANDARD
BEGIN:DAYLIGHT
TZOFFSETFROM:+0000
TZOFFSETTO:+0100
TZNAME:BST
DTSTART:20250330T010000
END:DAYLIGHT
BEGIN:STANDARD
TZOFFSETFROM:+0100
TZOFFSETTO:+0000
TZNAME:GMT
DTSTART:20251026T010000
END:STANDARD
END:VTIMEZONE
BEGIN:VEVENT
DTSTART;TZID=Europe/London:20240315T111500
DTEND;TZID=Europe/London:20240315T115500
DTSTAMP:20260419T175437
CREATED:20240228T191730Z
LAST-MODIFIED:20240228T191855Z
UID:16076-1710501300-1710503700@www.benawell.com
SUMMARY:Hypnotherapy For Health & Wellness
DESCRIPTION:A 30-40 minute class – learn more about how Hypnotherapy can help you. (Not suitable for epilepsy\, schizophrenia or psychosis)
URL:https://www.benawell.com/event/hypnotherapy-for-health-wellness/
LOCATION:Keep It Local\, Bennett Precinct\, Stoke-on-Trent\, England\, ST3 2JA\, United Kingdom
CATEGORIES:Wellbeing
ATTACH;FMTTYPE=image/jpeg:https://www.benawell.com/wp-content/uploads/2024/02/a9639efa78310e0b123bbdb743342aed.jpg
END:VEVENT
BEGIN:VEVENT
DTSTART;TZID=Europe/London:20240315T133000
DTEND;TZID=Europe/London:20240315T143000
DTSTAMP:20260419T175437
CREATED:20240213T151322Z
LAST-MODIFIED:20240213T151326Z
UID:14440-1710509400-1710513000@www.benawell.com
SUMMARY:Nordic Walking\, Stevens Park - Wollescote
DESCRIPTION:A volunteer led\, free\, one-hour Nordic walk interlaced with some simple exercises to aid strength and mobility.
URL:https://www.benawell.com/event/nordic-walking-stevens-park-wollescote-6/
LOCATION:Car Park – Stevens Park – Wollescote\, Wollescote Road\, Stourbridge\, England\, DY9 7JG\, United Kingdom
CATEGORIES:Exercise/Sport
ATTACH;FMTTYPE=image/jpeg:https://www.benawell.com/wp-content/uploads/2023/08/11098ad17637aaa54ed647a1f1cc2b19.jpg
END:VEVENT
END:VCALENDAR