BEGIN:VCALENDAR
VERSION:2.0
PRODID:-//Benawell - ECPv6.15.20//NONSGML v1.0//EN
CALSCALE:GREGORIAN
METHOD:PUBLISH
X-WR-CALNAME:Benawell
X-ORIGINAL-URL:https://www.benawell.com
X-WR-CALDESC:Events for Benawell
REFRESH-INTERVAL;VALUE=DURATION:PT1H
X-Robots-Tag:noindex
X-PUBLISHED-TTL:PT1H
BEGIN:VTIMEZONE
TZID:Europe/London
BEGIN:DAYLIGHT
TZOFFSETFROM:+0000
TZOFFSETTO:+0100
TZNAME:BST
DTSTART:20230326T010000
END:DAYLIGHT
BEGIN:STANDARD
TZOFFSETFROM:+0100
TZOFFSETTO:+0000
TZNAME:GMT
DTSTART:20231029T010000
END:STANDARD
BEGIN:DAYLIGHT
TZOFFSETFROM:+0000
TZOFFSETTO:+0100
TZNAME:BST
DTSTART:20240331T010000
END:DAYLIGHT
BEGIN:STANDARD
TZOFFSETFROM:+0100
TZOFFSETTO:+0000
TZNAME:GMT
DTSTART:20241027T010000
END:STANDARD
BEGIN:DAYLIGHT
TZOFFSETFROM:+0000
TZOFFSETTO:+0100
TZNAME:BST
DTSTART:20250330T010000
END:DAYLIGHT
BEGIN:STANDARD
TZOFFSETFROM:+0100
TZOFFSETTO:+0000
TZNAME:GMT
DTSTART:20251026T010000
END:STANDARD
END:VTIMEZONE
BEGIN:VEVENT
DTSTART;TZID=Europe/London:20240304T100000
DTEND;TZID=Europe/London:20240304T104500
DTSTAMP:20260419T175340
CREATED:20240213T150403Z
LAST-MODIFIED:20240213T150430Z
UID:14366-1709546400-1709549100@www.benawell.com
SUMMARY:Park Active - Stevens Park\, Quarry Bank
DESCRIPTION:Park Active sessions are free\, weekly fitness sessions led by trained volunteers in your local park. Please read the PAR-Q document below.
URL:https://www.benawell.com/event/park-active-stevens-park-quarry-bank-11/
LOCATION:The Bandstand – Stevens Park – Quarry Bank\, Thorns Road\, Brierley Hill\, England\, DY5 2JU\, United Kingdom
CATEGORIES:Exercise/Sport
ATTACH;FMTTYPE=image/jpeg:https://www.benawell.com/wp-content/uploads/2023/11/ef0011e152eaabcfac24398a1be97e55.jpg
END:VEVENT
BEGIN:VEVENT
DTSTART;TZID=Europe/London:20240304T130000
DTEND;TZID=Europe/London:20240304T160000
DTSTAMP:20260419T175340
CREATED:20240213T144630Z
LAST-MODIFIED:20240213T144835Z
UID:14091-1709557200-1709568000@www.benawell.com
SUMMARY:Black Country Adults Yoga\, Mindfulness\, and Creative art painting Session
DESCRIPTION:Join us for an afternoon of yoga\, mindfulness\, meditation\, and expressive art painting. This session will be in two parts.\n\n\nJoin us for an afternoon of yoga\, mindfulness\, meditation\, and expressive art painting. This session will be in two parts. \n· Part one yoga and mindfulness. \n· Part two creative art painting. \n \nAll equipment will be provided for the session. \nThis will be facilitated by a qualified\, professional teacher and it will be supported by AWM staff. \n \nNo group bookings! \nRelaxed and friendly group environment. \n \nYou must have a Black Country post code to attend and have a diagnosis of autism\, or in the process of being diagnosed. \nIf you have any questions ahead of the event\, please contact. \nMichelleh@autismwestmidlands.org.uk
URL:https://www.benawell.com/event/black-country-adults-yoga-mindfulness-and-creative-art-painting-session/
LOCATION:Manor Farm Community Association\, King George Crescent\, Walsall\, England\, WS4 1EU\, United Kingdom
CATEGORIES:Wellbeing
ATTACH;FMTTYPE=image/jpeg:https://www.benawell.com/wp-content/uploads/2024/02/504f61a5a92a977d8a2db14167083ce7.jpg
END:VEVENT
END:VCALENDAR