BEGIN:VCALENDAR
VERSION:2.0
PRODID:-//Benawell - ECPv6.15.20//NONSGML v1.0//EN
CALSCALE:GREGORIAN
METHOD:PUBLISH
X-WR-CALNAME:Benawell
X-ORIGINAL-URL:https://www.benawell.com
X-WR-CALDESC:Events for Benawell
REFRESH-INTERVAL;VALUE=DURATION:PT1H
X-Robots-Tag:noindex
X-PUBLISHED-TTL:PT1H
BEGIN:VTIMEZONE
TZID:Europe/London
BEGIN:DAYLIGHT
TZOFFSETFROM:+0000
TZOFFSETTO:+0100
TZNAME:BST
DTSTART:20230326T010000
END:DAYLIGHT
BEGIN:STANDARD
TZOFFSETFROM:+0100
TZOFFSETTO:+0000
TZNAME:GMT
DTSTART:20231029T010000
END:STANDARD
BEGIN:DAYLIGHT
TZOFFSETFROM:+0000
TZOFFSETTO:+0100
TZNAME:BST
DTSTART:20240331T010000
END:DAYLIGHT
BEGIN:STANDARD
TZOFFSETFROM:+0100
TZOFFSETTO:+0000
TZNAME:GMT
DTSTART:20241027T010000
END:STANDARD
BEGIN:DAYLIGHT
TZOFFSETFROM:+0000
TZOFFSETTO:+0100
TZNAME:BST
DTSTART:20250330T010000
END:DAYLIGHT
BEGIN:STANDARD
TZOFFSETFROM:+0100
TZOFFSETTO:+0000
TZNAME:GMT
DTSTART:20251026T010000
END:STANDARD
END:VTIMEZONE
BEGIN:VEVENT
DTSTART;TZID=Europe/London:20240229T123000
DTEND;TZID=Europe/London:20240229T133000
DTSTAMP:20260419T161403
CREATED:20240228T191451Z
LAST-MODIFIED:20240228T191855Z
UID:16064-1709209800-1709213400@www.benawell.com
SUMMARY:Mens fitness class | Train with Balal
DESCRIPTION:Get ready to sweat it out and level up your fitness game with the one and only Balal – join this in-person men’s fitness class for an intens
URL:https://www.benawell.com/event/mens-fitness-class-train-with-balal/
LOCATION:Sparkhill Pool & Fitness Centre\, Stratford Road\, Birmingham\, UK\, Stratford Road\, Birmingham\, England\, B11 4EA\, United Kingdom
CATEGORIES:Exercise/Sport
ATTACH;FMTTYPE=image/jpeg:https://www.benawell.com/wp-content/uploads/2024/02/064704dd0fc497e397767f8057cbeaa5.jpg
END:VEVENT
BEGIN:VEVENT
DTSTART;TZID=Europe/London:20240229T130000
DTEND;TZID=Europe/London:20240229T140000
DTSTAMP:20260419T161403
CREATED:20240213T145525Z
LAST-MODIFIED:20240213T145525Z
UID:14236-1709211600-1709215200@www.benawell.com
SUMMARY:Yoga Fun at WAVA Hall
DESCRIPTION:Come join us at WAVA Hall for some Yoga Fun! Available every week for £6.50 starting from Thursday 2nd March 2023 from 1-2pm.
URL:https://www.benawell.com/event/yoga-fun-at-wava-hall-3/
LOCATION:WAVA Hall Coventry\, 31 Barras Green\, Coventry\, England\, CV2 4LY\, United Kingdom
CATEGORIES:Wellbeing
ATTACH;FMTTYPE=image/jpeg:https://www.benawell.com/wp-content/uploads/2024/02/3e6475147595f95b26a063f611b72363.jpg
END:VEVENT
BEGIN:VEVENT
DTSTART;TZID=Europe/London:20240229T172000
DTEND;TZID=Europe/London:20240229T183000
DTSTAMP:20260419T161403
CREATED:20240213T145237Z
LAST-MODIFIED:20240213T145237Z
UID:14130-1709227200-1709231400@www.benawell.com
SUMMARY:Yoga for All
DESCRIPTION:Fully inclusive\, safe space\, fun!
URL:https://www.benawell.com/event/yoga-for-all-24/
LOCATION:Pride House\, 27 School street\, 27 School St\, Wolverhampton\, West Midlands\, WV1 4LR\, United Kingdom
CATEGORIES:Wellbeing
ATTACH;FMTTYPE=image/jpeg:https://www.benawell.com/wp-content/uploads/2023/07/d3bd88738b5f9b140885648cd60079a8.jpg
END:VEVENT
END:VCALENDAR