BEGIN:VCALENDAR
VERSION:2.0
PRODID:-//Benawell - ECPv6.15.20//NONSGML v1.0//EN
CALSCALE:GREGORIAN
METHOD:PUBLISH
X-WR-CALNAME:Benawell
X-ORIGINAL-URL:https://www.benawell.com
X-WR-CALDESC:Events for Benawell
REFRESH-INTERVAL;VALUE=DURATION:PT1H
X-Robots-Tag:noindex
X-PUBLISHED-TTL:PT1H
BEGIN:VTIMEZONE
TZID:Europe/London
BEGIN:DAYLIGHT
TZOFFSETFROM:+0000
TZOFFSETTO:+0100
TZNAME:BST
DTSTART:20230326T010000
END:DAYLIGHT
BEGIN:STANDARD
TZOFFSETFROM:+0100
TZOFFSETTO:+0000
TZNAME:GMT
DTSTART:20231029T010000
END:STANDARD
BEGIN:DAYLIGHT
TZOFFSETFROM:+0000
TZOFFSETTO:+0100
TZNAME:BST
DTSTART:20240331T010000
END:DAYLIGHT
BEGIN:STANDARD
TZOFFSETFROM:+0100
TZOFFSETTO:+0000
TZNAME:GMT
DTSTART:20241027T010000
END:STANDARD
BEGIN:DAYLIGHT
TZOFFSETFROM:+0000
TZOFFSETTO:+0100
TZNAME:BST
DTSTART:20250330T010000
END:DAYLIGHT
BEGIN:STANDARD
TZOFFSETFROM:+0100
TZOFFSETTO:+0000
TZNAME:GMT
DTSTART:20251026T010000
END:STANDARD
END:VTIMEZONE
BEGIN:VEVENT
DTSTART;TZID=Europe/London:20240224T094500
DTEND;TZID=Europe/London:20240224T103000
DTSTAMP:20260421T093701
CREATED:20240213T151216Z
LAST-MODIFIED:20240213T151239Z
UID:14400-1708767900-1708770600@www.benawell.com
SUMMARY:Park Active - Stevens Park\, Wollescote
DESCRIPTION:Park Active sessions are free\, weekly fitness sessions led by trained volunteers in your local park.  Please read the PAR-Q document below
URL:https://www.benawell.com/event/park-active-stevens-park-wollescote-17/
LOCATION:Car Park\, Wollescote Road\, Wollescote\, England\, DY9 7JG\, United Kingdom
CATEGORIES:Exercise/Sport
ATTACH;FMTTYPE=image/jpeg:https://www.benawell.com/wp-content/uploads/2023/08/21d1457a2716509307d059d829f0ec66.jpg
END:VEVENT
BEGIN:VEVENT
DTSTART;TZID=Europe/London:20240224T100000
DTEND;TZID=Europe/London:20240224T130000
DTSTAMP:20260421T093701
CREATED:20240213T151245Z
LAST-MODIFIED:20240213T151251Z
UID:14431-1708768800-1708779600@www.benawell.com
SUMMARY:Forest Bathing at Clowes Wood\, Solihull
DESCRIPTION:Experience the magic of slowing down to “Forest Time” in this beautiful ancient woodland\, and discover lasting joy\, creativity and calm\n\n\nF orest Bathing (aka Shinrin-Yoku) is a set of mindfulness practices and fun activities designed to calm the nervous system\, awaken the senses\, and bring us into meaningful relationship with the web of life. \nYou’ll be guided through a sequence of gentle activities which invite you to playfully explore each of your senses in turn\, expanding your usual range of perception and slowing you right down to experience existence at the speed of a tree – what I call “Forest Time”. This shifts us into a different brainwave state – so often in this modern world\, we’re locked into the “beta” wave state of constant action and planning and busy busy busy. Forest Bathing gets us into “alpha” state\, associated with calm\, creativity\, intuition and “flow”. It has been scientifically proven to give rise to a range of health benefits such as reduced blood pressure\, reduction in stress hormones\, improved sleep\, increases in anti-cancer proteins and reduced levels of anxiety\, depression\, anger and confusion too. With regular practice\, the wonder\, joy\, curiosity and playfulness that Forest Bathing draws out of us can gradually start to infuse and enrich our everyday lives beyond the forest. \nIt can often be hard to step out of the busyness of 21st Century life and give time to nourishing ourselves and our relationships with our wild relatives. But when we give ourselves permission to slow down in this way\, we receive such profound gifts of healing\, aliveness and belonging that it develops its own momentum and before we know it we can’t imagine our lives without it. I’ve found that doing it in a group allows feelings of connection to develop much faster as we all share our experiences and learn from each other’s unique ways of seeing and being – as well as making it more fun! \nI’m overjoyed to be working in collaboration with Warwickshire Wildlife Trust to offer these sessions at Clowes Wood Nature Reserve\, one of the most beautiful and biodiverse woodlands in the Midlands. 10% of all ticket sales is donated to the Trust to help maintain the Woods for the benefit of wildlife and humans alike. \nPlease note that these sessions are not suitable for children or pets. \nBooking closes at 5pm the day before the session to ensure I’m able to get the confirmation pack to you in time. \nAccessibility information: There is a 15-20 minute scenic walk over uneven ground from the meeting point to the forest\, and back again at the end. Once inside the forest there will be a little more walking at a slower pace\, but the ground can be uneven\, muddy\, and in places a bit hilly. If you have any concerns about the level of physical activity involved please contact me on hello@healingearthways.co.uk. \nThere’s often an invitation to sit on the ground at various points during the session – if this is difficult for you I recommend bringing a folding chair or folding stool – if you don’t have one I can usually lend you one. \nREFUNDS / TRANSFERS POLICY: Please note that group sizes are kept small to maintain the quality of the experience so in order to honour the time\, expertise and hard work I put into running these sessions\, tickets can only be refunded more than 7 days before the event. Bookings can be transferred to a new date with the following time scales and fees: \nMore than 7 days before the event: free of charge \n7 days or less before the event: transfer fee of £10 \nLess than 12 hours – unfortunately due to how the ticketing system works\, I’m unable to transfer tickets with less than 12 hours notice
URL:https://www.benawell.com/event/forest-bathing-at-clowes-wood-solihull-3/
LOCATION:Clowes Wood\, meet at Malthouse Lane Recreation Ground Car Park\, Earlswood\, Solihull\, West Midlands\, B94 5RZ\, United Kingdom
CATEGORIES:Exercise/Sport
ATTACH;FMTTYPE=image/jpeg:https://www.benawell.com/wp-content/uploads/2023/07/4ad1b2ad490ac22e2ba65d6660d5fbed.jpg
END:VEVENT
BEGIN:VEVENT
DTSTART;TZID=Europe/London:20240224T150000
DTEND;TZID=Europe/London:20240224T163000
DTSTAMP:20260421T093701
CREATED:20240104T140808Z
LAST-MODIFIED:20240104T140808Z
UID:12765-1708786800-1708792200@www.benawell.com
SUMMARY:Sound Bath In The Forest
DESCRIPTION:A nourishing sound bath set within the forest space.
URL:https://www.benawell.com/event/sound-bath-in-the-forest-2/
LOCATION:Wyre Forest – Forestry England\, Wyre Forest Discovery Centre\, Callow Hill\, England\, DY14 9XQ\, United Kingdom
CATEGORIES:Wellbeing
ATTACH;FMTTYPE=image/jpeg:https://www.benawell.com/wp-content/uploads/2024/01/15cc9abfdc4c86bbaad08b29b3c6bd33.jpg
END:VEVENT
END:VCALENDAR