BEGIN:VCALENDAR
VERSION:2.0
PRODID:-//Benawell - ECPv6.15.20//NONSGML v1.0//EN
CALSCALE:GREGORIAN
METHOD:PUBLISH
X-WR-CALNAME:Benawell
X-ORIGINAL-URL:https://www.benawell.com
X-WR-CALDESC:Events for Benawell
REFRESH-INTERVAL;VALUE=DURATION:PT1H
X-Robots-Tag:noindex
X-PUBLISHED-TTL:PT1H
BEGIN:VTIMEZONE
TZID:Europe/London
BEGIN:DAYLIGHT
TZOFFSETFROM:+0000
TZOFFSETTO:+0100
TZNAME:BST
DTSTART:20230326T010000
END:DAYLIGHT
BEGIN:STANDARD
TZOFFSETFROM:+0100
TZOFFSETTO:+0000
TZNAME:GMT
DTSTART:20231029T010000
END:STANDARD
BEGIN:DAYLIGHT
TZOFFSETFROM:+0000
TZOFFSETTO:+0100
TZNAME:BST
DTSTART:20240331T010000
END:DAYLIGHT
BEGIN:STANDARD
TZOFFSETFROM:+0100
TZOFFSETTO:+0000
TZNAME:GMT
DTSTART:20241027T010000
END:STANDARD
BEGIN:DAYLIGHT
TZOFFSETFROM:+0000
TZOFFSETTO:+0100
TZNAME:BST
DTSTART:20250330T010000
END:DAYLIGHT
BEGIN:STANDARD
TZOFFSETFROM:+0100
TZOFFSETTO:+0000
TZNAME:GMT
DTSTART:20251026T010000
END:STANDARD
END:VTIMEZONE
BEGIN:VEVENT
DTSTART;TZID=Europe/London:20240119T103000
DTEND;TZID=Europe/London:20240119T113000
DTSTAMP:20260419T143705
CREATED:20240104T141848Z
LAST-MODIFIED:20240104T142413Z
UID:12829-1705660200-1705663800@www.benawell.com
SUMMARY:Walk & Laughter Yoga
DESCRIPTION:Combine a short gentle walk i King George V Park\, Kingswinford with stops for Laughter Yoga exercises\n\n\nThis activity will incorporate a gentle walk around the park (also known as Blandford Mere as it is near the school).  We shall walk around the lake and take the path near the school and return by the church. \nLaughter Yoga is an aerobic exercise where we role-play everyday activities with child-like playfulness that results in unconditional laughter.  In between the exerciss\, we do energising hand clapping and uplifting chants and this is combined with deep breathing techniques\, known from yoga.
URL:https://www.benawell.com/event/walk-laughter-yoga/
LOCATION:Park Lane\, Park Lane\, Kingswinford\, England\, DY6 8AT\, United Kingdom
CATEGORIES:Exercise/Sport
ATTACH;FMTTYPE=image/jpeg:https://www.benawell.com/wp-content/uploads/2024/01/73803f6afadb02e4fc079b41ef412d1d.jpg
END:VEVENT
BEGIN:VEVENT
DTSTART;TZID=Europe/London:20240119T130000
DTEND;TZID=Europe/London:20240119T134500
DTSTAMP:20260419T143705
CREATED:20240104T141407Z
LAST-MODIFIED:20240104T141407Z
UID:12810-1705669200-1705671900@www.benawell.com
SUMMARY:Friday Boxercise
DESCRIPTION:45 minute boxing circuit blast
URL:https://www.benawell.com/event/friday-boxercise-3/
LOCATION:Huntingtree Park\, 13 Bassnage Road\, Halesowen\, England\, B63 4EX\, United Kingdom
CATEGORIES:Exercise/Sport
ATTACH;FMTTYPE=image/jpeg:https://www.benawell.com/wp-content/uploads/2024/01/87d5e714a12648b55d2ef3e6619ee05b.jpg
END:VEVENT
END:VCALENDAR